DSET ^%m2%d2.nc
TITLE JMA-MSM pressure-level analysis
*
OPTIONS template yrev
DTYPE netcdf
UNDEF -1.e+21 _FillValue
UNPACK scale_factor add_offset
*
XDEF 241 LINEAR 120.0 0.125
YDEF 253 LINEAR 22.4 0.10
ZDEF 16 LEVELS 1000 975 950 925 900 850 800 700 600 500 400 300 250 200 150 100
TDEF 248 LINEAR 0Z1JAN2007 3hr
*
VARS 6
z=>z 16 t,z,y,x geopotential height (m)
w=>w 16 t,z,y,x vertical velocity in p (Pa/s)
u=>u 16 t,z,y,x zonal wind (m/s)
v=>v 16 t,z,y,x meridional wind (m/s)
temp=>temp 16 t,z,y,x temperature (K)
rh=>rh 16 t,z,y,x relative humidity (%)
ENDVARS
